BEGIN:VCALENDAR
VERSION:2.0
PRODID:-//Agility Software - ECPv6.15.20//NONSGML v1.0//EN
CALSCALE:GREGORIAN
METHOD:PUBLISH
X-WR-CALNAME:Agility Software
X-ORIGINAL-URL:https://agilitysoftware.com
X-WR-CALDESC:Events for Agility Software
REFRESH-INTERVAL;VALUE=DURATION:PT1H
X-Robots-Tag:noindex
X-PUBLISHED-TTL:PT1H
BEGIN:VTIMEZONE
TZID:UTC
BEGIN:STANDARD
TZOFFSETFROM:+0000
TZOFFSETTO:+0000
TZNAME:UTC
DTSTART:20290101T000000
END:STANDARD
END:VTIMEZONE
BEGIN:VEVENT
DTSTART;TZID=UTC:20301231T000000
DTEND;TZID=UTC:20301231T000000
DTSTAMP:20260423T155434
CREATED:20251107T210223Z
LAST-MODIFIED:20251107T210356Z
UID:2980-1924905600-1924905600@agilitysoftware.com
SUMMARY:Morning Flow Video
DESCRIPTION:
URL:https://agilitysoftware.com/event/morning-flow-video-non-event/
END:VEVENT
END:VCALENDAR